BEGIN:VCALENDAR
VERSION:2.0
PRODID:-//déi jonk gréng - ECPv5.5.0.1//NONSGML v1.0//EN
CALSCALE:GREGORIAN
METHOD:PUBLISH
X-WR-CALNAME:déi jonk gréng
X-ORIGINAL-URL:https://jonkgreng.lu
X-WR-CALDESC:Veranstaltungen für déi jonk gréng
BEGIN:VTIMEZONE
TZID:Europe/Paris
BEGIN:DAYLIGHT
TZOFFSETFROM:+0100
TZOFFSETTO:+0200
TZNAME:CEST
DTSTART:20160327T010000
END:DAYLIGHT
BEGIN:STANDARD
TZOFFSETFROM:+0200
TZOFFSETTO:+0100
TZNAME:CET
DTSTART:20161030T010000
END:STANDARD
END:VTIMEZONE
BEGIN:VEVENT
DTSTART;TZID=Europe/Paris:20160916T170000
DTEND;TZID=Europe/Paris:20160917T030000
DTSTAMP:20210720T165223
CREATED:20160527T133026Z
LAST-MODIFIED:20160903T065655Z
UID:1524-1474045200-1474081200@jonkgreng.lu
SUMMARY:20 Joer déi jonk gréng
DESCRIPTION:„Ils l’ont fumé\, ils le diabolisent\, nous on le légalise“. So steht es grün auf weiss auf einem der ersten déi jonk gréng Sticker aus dem Jahre 1996. Sturm und Drang? oder Rausch und Fun? Die Anfangsjahre von déi jonk gréng waren stürmisch. Aus dieser Zeit weiss einer der Pioniere von déi jonk gréng\, Mike Richartz zu berichten. \nDoch mit dem geopolitischen Chaos der frühen 2000er avancierte djg mal zu einer Friedensbewegung rund um den Walk Out\, einer der grössten Schülerproteste gegen den Irakkrieg oder zu einem sozialen Protest wie bei den berühmt-berüchtigten 5611 Demonstrationen. Fazit\, djg hatten immer die Finger im Spiel und wurden zu einer treibenden Kraft innerhalb der Grünen Partei. Es folgten Jahre mit einem starken Menschenrechtsengagement\, Pionierpositionen zu digitalen Rechten aber auch mit bitteren Ausseinandersetzungen\, innerparteilich und nach aussen. Der Faktor Innovation blieb jedoch immer eine Konstante. \n20 Jahre déi jonk gréng\, Zeit für einen Rückblick\, für Anekdoten und Geschichten\, aber auch Zeit für einen Ausblick\, in Zeiten wo man auf engagierte junge Menschen kaum verzichten kann.“ \nProgramm:\nSur invitation\n19h: Ouverture\n20h: Discours officiels\n21h: Gâteau d’anniversaire \nA partir de 22h: Fête ouverte au public
URL:https://jonkgreng.lu/event/20-joer-dei-jonk-greng/
LOCATION:De Gudde Wëllen\, 17\, rue du St Esprit\, Luxembourg\, L-1475\, Luxembourg
END:VEVENT
END:VCALENDAR